BEGIN:VCALENDAR
VERSION:2.0
PRODID:-//wp-events-plugin.com//7.2.3.1//EN
BEGIN:VEVENT
UID:623@monroestreetstudio.com
DTSTART;TZID=America/New_York:20260108T190000
DTEND;TZID=America/New_York:20260129T203000
DTSTAMP:20260105T004054Z
URL:https://monroestreetstudio.com/events/abstract-painting-with-acrylic-f
 or-beginners-adults-thursdays-winter-2026/
SUMMARY:Abstract Painting with Acrylic for Beginners Adults. Thursdays. Win
 ter 2026.
DESCRIPTION:Embark on a creative adventure with our Painting with acrylic c
 lasses! This course invites you to experience the enchantment of painting\
 , an art form that has captivated hearts and expressed human experiences t
 hroughout history. In our welcoming studio\, beginners will find the perfe
 ct setting to explore various painting techniques and styles. From the fir
 st brushstroke to the final masterpiece\, you'll discover the profound joy
  and fulfillment of bringing your visions to life on canvas. Join us and u
 nleash your inner artist\, learning to express your thoughts and emotions 
 through the vibrant language of color. Let's begin this journey together!\
 n\nThursdays\n\nTime: 7:00 pm - 8:30 pm\n\nDates: 01/08\; 01/15\; 01/22\; 
 01/29\n\n4 Sessions $228
LOCATION:Monroe Street Studio\, 761 A Monroe Street\, Herndon\, VA\, 20170\
 , United States
X-APPLE-STRUCTURED-LOCATION;VALUE=URI;X-ADDRESS=761 A Monroe Street\, Hernd
 on\, VA\, 20170\, United States;X-APPLE-RADIUS=100;X-TITLE=Monroe Street S
 tudio:geo:0,0
END:VEVENT
BEGIN:VTIMEZONE
TZID:America/New_York
X-LIC-LOCATION:America/New_York
BEGIN:STANDARD
DTSTART:20251102T010000
TZOFFSETFROM:-0400
TZOFFSETTO:-0500
TZNAME:EST
END:STANDARD
END:VTIMEZONE
END:VCALENDAR