BEGIN:VCALENDAR
VERSION:2.0
PRODID:-//wp-events-plugin.com//7.2.3.1//EN
BEGIN:VEVENT
UID:625@monroestreetstudio.com
DTSTART;TZID=America/New_York:20260205T190000
DTEND;TZID=America/New_York:20260226T083000
DTSTAMP:20251015T000015Z
URL:https://monroestreetstudio.com/events/academic-drawing-for-adults-begi
 nners-intermediate-thursdays-winter-2026/
SUMMARY:Academic Drawing for Adults (Beginners & Intermediate ). Thursdays.
  Winter 2026
DESCRIPTION:This intensive course is for adults who want to develop or impr
 ove their drawing skills.\n\nChallenge yourself by experimenting with cros
 s etching and charcoal. Gypsum casts and still life compositions will be u
 sed in a range of drawing experiences to study and apply concepts of compo
 sition\, perspectives\, proportions and volume.  Studio Owner and Art Tea
 cher Yana Farmer provides individual guidance to help each participant bui
 ld skill proficiency.\n\nSuitable for beginners and those who want to adva
 nce their work. New subject every class.\n\nThursdays\n\nTime: 7:00pm - 8:
 30pm\n\nDates: 02/05\; 02/12\; 02/19\; 02/26\n\nPrice: 4 Classes - $218\n\
 n&nbsp\;\n\n&nbsp\;
ATTACH;FMTTYPE=image/jpeg:https://monroestreetstudio.com/wp-content/upload
 s/2021/10/to-use-e1640877482260.jpg
LOCATION:Monroe Street Studio\, 761 A Monroe Street\, Herndon\, VA\, 20170\
 , United States
X-APPLE-STRUCTURED-LOCATION;VALUE=URI;X-ADDRESS=761 A Monroe Street\, Hernd
 on\, VA\, 20170\, United States;X-APPLE-RADIUS=100;X-TITLE=Monroe Street S
 tudio:geo:0,0
END:VEVENT
BEGIN:VTIMEZONE
TZID:America/New_York
X-LIC-LOCATION:America/New_York
BEGIN:STANDARD
DTSTART:20251102T010000
TZOFFSETFROM:-0400
TZOFFSETTO:-0500
TZNAME:EST
END:STANDARD
END:VTIMEZONE
END:VCALENDAR