BEGIN:VCALENDAR
VERSION:2.0
PRODID:-//wp-events-plugin.com//7.2.3.1//EN
BEGIN:VEVENT
UID:599@monroestreetstudio.com
DTSTART;TZID=America/New_York:20260504T171500
DTEND;TZID=America/New_York:20260615T184500
DTSTAMP:20250916T003827Z
URL:https://monroestreetstudio.com/events/academic-drawing-painting-for-ad
 vanced-students-monday-spring-ii-2026/
SUMMARY:Academic Drawing & Painting for Advanced Students. Monday\, Spring 
 II\, 2026
DESCRIPTION:Advanced Art Program – By Portfolio Review Only\nThis program
  is designed for dedicated young artists who have demonstrated skills\, fo
 cus\, and maturity beyond the intermediate level. Admission is by portfoli
 o review\, ensuring that each student is ready to engage with more advance
 d techniques and concepts.\nStudents in this course will deepen their unde
 rstanding of core visual art fundamentals\, including composition\, propor
 tion\, perspective\, volume\, and color theory. They will work from observ
 ation using gypsum casts and still-life arrangements\, developing refined 
 drawing and painting skills through the use of acrylics\, watercolor\, and
  oil paint. The program also includes printmaking with ink\, charcoal draw
 ing\, and clay modeling\, offering a rich\, well-rounded artistic experien
 ce.\nTo apply\, please email us at art@monroestreetstudio.com with your ch
 ild’s name and up to six samples of their artwork. Our team will review 
 submissions and contact you regarding placement.\n\n\n\n\nMondays\n\nAge: 
 Not specified.\n\nDates: 05/04\, 05/11\, 05/18\, 06/01\, 06/08\, 06/15\n\n
 Note: No Class on 05/25\n\nTime: 5:15 pm - 6:45 pm\n\n6 Classes - $312
CATEGORIES:Drawing,Painting
LOCATION:Monroe Street Studio\, 761 A Monroe Street\, Herndon\, VA\, 20170\
 , United States
X-APPLE-STRUCTURED-LOCATION;VALUE=URI;X-ADDRESS=761 A Monroe Street\, Hernd
 on\, VA\, 20170\, United States;X-APPLE-RADIUS=100;X-TITLE=Monroe Street S
 tudio:geo:0,0
END:VEVENT
BEGIN:VTIMEZONE
TZID:America/New_York
X-LIC-LOCATION:America/New_York
BEGIN:DAYLIGHT
DTSTART:20260308T030000
TZOFFSETFROM:-0500
TZOFFSETTO:-0400
TZNAME:EDT
END:DAYLIGHT
END:VTIMEZONE
END:VCALENDAR