BEGIN:VCALENDAR
VERSION:2.0
PRODID:-//wp-events-plugin.com//7.2.3.1//EN
BEGIN:VEVENT
UID:585@monroestreetstudio.com
DTSTART;TZID=America/New_York:20260123T090000
DTEND;TZID=America/New_York:20260123T130000
DTSTAMP:20260119T203732Z
URL:https://monroestreetstudio.com/events/all-around-the-studio-one-day-ar
 t-camp-january-23rd-2026/
SUMMARY:All Around the Studio – One-Day Art Camp! January 23rd\, 2026.
DESCRIPTION:When School's Out\, Creativity is In!\n\nLooking for a fun and 
 creative way for your child to spend a School Holiday/Teacher Workday?\n\n
 Join us for our All Around the Studio One-Day Camp — a hands-on art expe
 rience packed with imagination\, learning\, and messy fun! Campers will ro
 tate through a variety of exciting art activities\, each offering a differ
 ent type of project to spark their creativity. Students will be divided in
 to 2 groups by age and interest.\n\nNo experience needed – just curiosit
 y and creativity!\n\nCamp Highlights:\n\n 	Clay modeling &amp\; hand-built
  pottery\n 	Glazing a bisque\n 	Acrylic painting on canvas\, watercolor &a
 mp\; oil pastel painting\n 	Drawing with charcoal\, pencils\, ink pens &am
 p\; more\n 	Printmaking\n 	Mosaic art\n 	Seasonal crafts\n 	Creating art u
 sing recycled materials\n 	Hand sewing\, crocheting\, kneading\n 	And even
  more exciting surprises!\n\nPlease bring a packed lunch and water.\n\nSpo
 ts are limited – register early to reserve your child’s place!\n\nDate
 : Friday. 01/23/2026.\n\nTime: 9:00 am - 1:00 pm.\n\nFee: $90\n\nPlease no
 te: the camp is subject to a minimum enrollment of 4 children. If fewer th
 an 4 children are registered\, the camp will be canceled 1 week prior to t
 he start date.
CATEGORIES:Multimedia
END:VEVENT
BEGIN:VTIMEZONE
TZID:America/New_York
X-LIC-LOCATION:America/New_York
BEGIN:STANDARD
DTSTART:20251102T010000
TZOFFSETFROM:-0400
TZOFFSETTO:-0500
TZNAME:EST
END:STANDARD
END:VTIMEZONE
END:VCALENDAR