BEGIN:VCALENDAR
VERSION:2.0
PRODID:-//wp-events-plugin.com//7.2.3.1//EN
BEGIN:VEVENT
UID:533@monroestreetstudio.com
DTSTART;TZID=America/New_York:20250715T190000
DTEND;TZID=America/New_York:20250819T203000
DTSTAMP:20250516T191039Z
URL:https://monroestreetstudio.com/events/art-exploration-for-adults-summe
 r-2025/
SUMMARY:Art Exploration: Glass Mosaic\, Hand-Built Pottery & Painting with 
 Acrylic. Summer 2025.
DESCRIPTION:Art Exploration: Glass Mosaic\, Hand-Built Pottery &amp\; Paint
 ingFind Your New Hobby in 6 Creative Classes!\nIn this fun and engaging 6-
 session course\, you’ll dive into three distinct art forms: glass mosaic
 \, hand-built pottery\, and painting. Whether you’re a beginner or looki
 ng to expand your creative horizons\, this class is the perfect way to exp
 lore new hobbies and develop hands-on skills in a welcoming\, supportive e
 nvironment.\nTime: 7:00 pm - 8:30 pm\n\nDates: 07/15\; 07/22\; 07/29\; 08/
 05\; 08/12\; 08/19.\n\nFee:  $295 (6 classes)
CATEGORIES:Stained Glass
LOCATION:Monroe Street Studio\, 761 A Monroe Street\, Herndon\, VA\, 20170\
 , United States
X-APPLE-STRUCTURED-LOCATION;VALUE=URI;X-ADDRESS=761 A Monroe Street\, Hernd
 on\, VA\, 20170\, United States;X-APPLE-RADIUS=100;X-TITLE=Monroe Street S
 tudio:geo:0,0
END:VEVENT
BEGIN:VTIMEZONE
TZID:America/New_York
X-LIC-LOCATION:America/New_York
BEGIN:DAYLIGHT
DTSTART:20250309T030000
TZOFFSETFROM:-0500
TZOFFSETTO:-0400
TZNAME:EDT
END:DAYLIGHT
END:VTIMEZONE
END:VCALENDAR