BEGIN:VCALENDAR
VERSION:2.0
PRODID:-//wp-events-plugin.com//7.2.3.1//EN
BEGIN:VEVENT
UID:549@monroestreetstudio.com
DTSTART;TZID=America/New_York:20251028T190000
DTEND;TZID=America/New_York:20251202T203000
DTSTAMP:20251019T215003Z
URL:https://monroestreetstudio.com/events/art-exploration-glass-mosaic-han
 d-built-pottery-painting-with-acrylic-fall-2025-2/
SUMMARY:Art Exploration: Glass Mosaic\, Hand-Built Pottery & Painting with 
 Acrylic. Tuesdays. Fall 2025.
DESCRIPTION:Art Exploration: Glass Mosaic\, Hand-Built Pottery &amp\; Paint
 ingFind Your New Hobby in 6 Creative Classes!\nIn this fun and engaging 6-
 session course\, you’ll dive into three distinct art forms: glass mosaic
 \, hand-built pottery\, and painting with acrylic. Whether you’re a begi
 nner or looking to expand your creative horizons\, this class is the perfe
 ct way to explore new hobbies and develop hands-on skills in a welcoming\,
  supportive environment.\nTuesdays\nTime: 7:00 pm - 8:30 pm\n\nDates: 10/2
 8\, 11/04\, 11/11\, 11/18\, 11/25\, 12/02\n\nFee:  $330 (6 classes)\n\n6 
 students
CATEGORIES:Stained Glass
LOCATION:Monroe Street Studio\, 761 A Monroe Street\, Herndon\, VA\, 20170\
 , United States
X-APPLE-STRUCTURED-LOCATION;VALUE=URI;X-ADDRESS=761 A Monroe Street\, Hernd
 on\, VA\, 20170\, United States;X-APPLE-RADIUS=100;X-TITLE=Monroe Street S
 tudio:geo:0,0
END:VEVENT
BEGIN:VTIMEZONE
TZID:America/New_York
X-LIC-LOCATION:America/New_York
BEGIN:DAYLIGHT
DTSTART:20250309T030000
TZOFFSETFROM:-0500
TZOFFSETTO:-0400
TZNAME:EDT
END:DAYLIGHT
BEGIN:STANDARD
DTSTART:20251102T010000
TZOFFSETFROM:-0400
TZOFFSETTO:-0500
TZNAME:EST
END:STANDARD
END:VTIMEZONE
END:VCALENDAR