BEGIN:VCALENDAR
VERSION:2.0
PRODID:-//wp-events-plugin.com//7.2.3.1//EN
BEGIN:VEVENT
UID:539@monroestreetstudio.com
DTSTART;TZID=America/New_York:20250804T100000
DTEND;TZID=America/New_York:20250806T120000
DTSTAMP:20250813T152547Z
URL:https://monroestreetstudio.com/events/art-is-fun-workshop-for-age-5-6/
SUMMARY:Art is Fun Workshop for Age 5-6.
DESCRIPTION:If your child desire for creativity\, bring him to our professi
 onal art studio\, we will open a new wold for your young artist!\n\nPerfec
 t for ages 5-6 years old.  Your little creator will have fun around the s
 tudio getting experience with acrylic painting on canvas\, exploring water
 color\, oil pastel and charcoal. Clay modeling and more!\n\nOur student ma
 y bring their snack and water bottle. The studio also can provide a health
 y snack and water.\n\n&nbsp\;\n\nMonday-Wednesday\n\nDate: 08/04 - 08/06\n
 \nTime: 10:00 am - noon.\n\n3 Sessions - $192\n\nSpace limited to 6 studen
 ts
LOCATION:Monroe Street Studio\, 761 A Monroe Street\, Herndon\, VA\, 20170\
 , United States
X-APPLE-STRUCTURED-LOCATION;VALUE=URI;X-ADDRESS=761 A Monroe Street\, Hernd
 on\, VA\, 20170\, United States;X-APPLE-RADIUS=100;X-TITLE=Monroe Street S
 tudio:geo:0,0
END:VEVENT
BEGIN:VTIMEZONE
TZID:America/New_York
X-LIC-LOCATION:America/New_York
BEGIN:DAYLIGHT
DTSTART:20250309T030000
TZOFFSETFROM:-0500
TZOFFSETTO:-0400
TZNAME:EDT
END:DAYLIGHT
END:VTIMEZONE
END:VCALENDAR