BEGIN:VCALENDAR
VERSION:2.0
PRODID:-//wp-events-plugin.com//7.2.3.1//EN
BEGIN:VEVENT
UID:574@monroestreetstudio.com
DTSTART;TZID=America/New_York:20251101T134500
DTEND;TZID=America/New_York:20251213T144500
DTSTAMP:20251007T142347Z
URL:https://monroestreetstudio.com/events/crochet-knitting-sewing-for-youn
 g-students-age-8-saturday-fall-ii-2025/
SUMMARY:Crochet\, Knitting & Sewing for Young Students (Age 8 +). Saturday.
  Fall II\, 2025
DESCRIPTION:Step into the magical world of thread and fabric! In this fun a
 nd hands-on class\, young makers will learn the basic skills of crochet\, 
 knitting\, and sewing—three timeless arts with a fresh\, modern twist. F
 rom creating simple stitches to finishing their very first handmade piece\
 , students will explore the joy of working with yarn\, needles\, and fabri
 c. They'll build confidence\, patience\, and creativity while crafting fun
  projects like key charms\, mini bags\, soft toys\, and even wearable acce
 ssories! No experience needed— all you need is a little curiosity and a 
 big love for making magic with your hands!\n\nAll supplies are included.\n
 \nAge: 8+\n\nSaturdays\n\nTime: 1:45 pm – 2:45 pm\n\nDate: 11/01\, 11/08
 \, 11/15\, 11/22\, 12/06\, 12/13\n\nNote: No Class 11/29\n\n6 Classes – 
 $210
END:VEVENT
BEGIN:VTIMEZONE
TZID:America/New_York
X-LIC-LOCATION:America/New_York
BEGIN:DAYLIGHT
DTSTART:20250309T030000
TZOFFSETFROM:-0500
TZOFFSETTO:-0400
TZNAME:EDT
END:DAYLIGHT
BEGIN:STANDARD
DTSTART:20251102T010000
TZOFFSETFROM:-0400
TZOFFSETTO:-0500
TZNAME:EST
END:STANDARD
END:VTIMEZONE
END:VCALENDAR