BEGIN:VCALENDAR
VERSION:2.0
PRODID:-//wp-events-plugin.com//7.2.3.1//EN
BEGIN:VEVENT
UID:525@monroestreetstudio.com
DTSTART;TZID=America/New_York:20250422T190000
DTEND;TZID=America/New_York:20250520T203000
DTSTAMP:20250317T022408Z
URL:https://monroestreetstudio.com/events/glass-mosaic-masterpiece-for-adu
 lts-spring-2025/
SUMMARY:Glass Mosaic Masterpiece for Adults. Spring 2025.
DESCRIPTION:Monroe Street Studio invites beginner and returning adult stude
 nts to learn how to create their own Glass Mosaic Art. Students will learn
  extensively about Glass Mosaic tools\, techniques\, and design developmen
 t to create their own beautiful and unique designs on a decorative terraco
 tta plate. A large selection of pre-cut materials will be available as wel
 l as an endless source of stained glass for practicing with cutting and gr
 inding stained glass to incorporate into their original design.  The stud
 ents will also have an opportunity to finish their masterpieces by groutin
 g them at the studio (optional).\n\nAll materials are provided.\n\nTuesday
 .\n\nTime: 7:00 pm - 8:30 pm.\n\nDates: 04/22\; 04/29\; 05/06\; 05/13\; 05
 /20.\n\nPrice: $295 (5 classes + 1.5 hours of open studio time).\n\n&nbsp\
 ;
LOCATION:Monroe Street Studio\, 761 A Monroe Street\, Herndon\, VA\, 20170\
 , United States
X-APPLE-STRUCTURED-LOCATION;VALUE=URI;X-ADDRESS=761 A Monroe Street\, Hernd
 on\, VA\, 20170\, United States;X-APPLE-RADIUS=100;X-TITLE=Monroe Street S
 tudio:geo:0,0
END:VEVENT
BEGIN:VTIMEZONE
TZID:America/New_York
X-LIC-LOCATION:America/New_York
BEGIN:DAYLIGHT
DTSTART:20250309T030000
TZOFFSETFROM:-0500
TZOFFSETTO:-0400
TZNAME:EDT
END:DAYLIGHT
END:VTIMEZONE
END:VCALENDAR