BEGIN:VCALENDAR
VERSION:2.0
PRODID:-//wp-events-plugin.com//7.2.3.1//EN
BEGIN:VEVENT
UID:555@monroestreetstudio.com
DTSTART;TZID=America/New_York:20260217T190000
DTEND;TZID=America/New_York:20260317T203000
DTSTAMP:20260122T161627Z
URL:https://monroestreetstudio.com/events/glass-mosaic-masterpiece-for-adu
 lts-tuesdays-winter-2026/
SUMMARY:Glass Mosaic Masterpiece for Adults / Tuesday/ Winter 2026
DESCRIPTION:&nbsp\;\nUnleash your creativity in this vibrant and beginner-f
 riendly glass mosaic class for adults!\nUsing precut colorful glass tiles\
 , you'll design and create your own mosaic artwork on either a ceramic pla
 te or a wooden tray.\nGuided step-by-step by the instructor\, you'll learn
  how to plan a design\, arrange your tiles\, and securely adhere them to y
 our base. The class will conclude with grouting your mosaic\, giving your 
 piece a polished\, durable\, and professional finish.\nAll materials are i
 ncluded—just bring your imagination! Whether you choose a bold pattern o
 r an abstract creation\, you'll leave with a beautiful\, functional piece 
 of art ready to display or gift.\nNo prior experience is needed—just com
 e ready to explore color\, texture\, and the joy of mosaic making!\nAll ma
 terials are provided.\n\n&nbsp\;\n\nThis project takes 5 classes to comple
 te.\n\nTime: 7:00pm - 8:30pm\n\nTuesdays\n\nDates:02/17\; 02/24\; 03/03\; 
 03/10\; 03/17\n\nPrice: $305\n\n6 Students\n\n&nbsp\;
LOCATION:Monroe Street Studio\, 761 A Monroe Street\, Herndon\, VA\, 20170\
 , United States
X-APPLE-STRUCTURED-LOCATION;VALUE=URI;X-ADDRESS=761 A Monroe Street\, Hernd
 on\, VA\, 20170\, United States;X-APPLE-RADIUS=100;X-TITLE=Monroe Street S
 tudio:geo:0,0
END:VEVENT
BEGIN:VTIMEZONE
TZID:America/New_York
X-LIC-LOCATION:America/New_York
BEGIN:STANDARD
DTSTART:20251102T010000
TZOFFSETFROM:-0400
TZOFFSETTO:-0500
TZNAME:EST
END:STANDARD
BEGIN:DAYLIGHT
DTSTART:20260308T030000
TZOFFSETFROM:-0500
TZOFFSETTO:-0400
TZNAME:EDT
END:DAYLIGHT
END:VTIMEZONE
END:VCALENDAR