BEGIN:VCALENDAR
VERSION:2.0
PRODID:-//wp-events-plugin.com//7.2.3.1//EN
BEGIN:VEVENT
UID:613@monroestreetstudio.com
DTSTART;TZID=America/New_York:20251029T133000
DTEND;TZID=America/New_York:20251029T150000
DTSTAMP:20251009T145036Z
URL:https://monroestreetstudio.com/events/halloween-art-party-open-house-o
 ctober-29th-2025-130-3-pm/
SUMMARY:Halloween Art Party/Open House – October 29th\, 2025 1:30 pm – 
 3:00 pm
DESCRIPTION:Monroe Street Studio is excited to invite you\, your children\,
  and their friends to a fun Family Halloween Open House on October 29\, fr
 om 1:30–3:00 PM!\nCome enjoy festive art projects\, refreshments\, and o
 ur warm\, cozy studio atmosphere.\nCostumes are welcome\, and we’ll be m
 aking some spooky and creative Halloween-themed artwork together!\nThis is
  a FREE event — a perfect opportunity to introduce friends to the studio
 .\nPlease register below.\nWe can’t wait to celebrate with you!
END:VEVENT
BEGIN:VTIMEZONE
TZID:America/New_York
X-LIC-LOCATION:America/New_York
BEGIN:DAYLIGHT
DTSTART:20250309T030000
TZOFFSETFROM:-0500
TZOFFSETTO:-0400
TZNAME:EDT
END:DAYLIGHT
END:VTIMEZONE
END:VCALENDAR