BEGIN:VCALENDAR
VERSION:2.0
PRODID:-//wp-events-plugin.com//7.2.3.1//EN
BEGIN:VEVENT
UID:528@monroestreetstudio.com
DTSTART;TZID=America/New_York:20250423T190000
DTEND;TZID=America/New_York:20250521T203000
DTSTAMP:20250315T003658Z
URL:https://monroestreetstudio.com/events/hand-built-pottery-sculpting-cla
 ss-for-beginners-adults-spring-2-2025-2/
SUMMARY:Hand-Built Pottery/Sculpting Class for Beginners Adults. Spring II\
 , 2025.
DESCRIPTION:\n\n\n\nMonroe Street Studio offers an exciting course for adul
 ts who desire to dip their hands in clay to create fun projects.  You can
  create unique clay artworks and finish them professionally using ancient 
 hand-built pottery techniques.  Participants will learn the pottery-makin
 g process\, including modeling\, glazing\, and firing. Your beautiful\, sh
 iny\, collectible final product will hold the warmth of your hands for man
 y years\, and the experience will be unforgettable.\n\nWednesday.\n\nTime:
  7:00 pm - 8:30 pm.\n\nDates: 04/23\; 04/30\; 05/07\; 05/14\; 05/21.\n\n5 
 classes: $295 (Includes clay\, glazes and 2 kiln firings).\n\n\n\n
LOCATION:Monroe Street Studio\, 761 A Monroe Street\, Herndon\, VA\, 20170\
 , United States
X-APPLE-STRUCTURED-LOCATION;VALUE=URI;X-ADDRESS=761 A Monroe Street\, Hernd
 on\, VA\, 20170\, United States;X-APPLE-RADIUS=100;X-TITLE=Monroe Street S
 tudio:geo:0,0
END:VEVENT
BEGIN:VTIMEZONE
TZID:America/New_York
X-LIC-LOCATION:America/New_York
BEGIN:DAYLIGHT
DTSTART:20250309T030000
TZOFFSETFROM:-0500
TZOFFSETTO:-0400
TZNAME:EDT
END:DAYLIGHT
END:VTIMEZONE
END:VCALENDAR