BEGIN:VCALENDAR
VERSION:2.0
PRODID:-//wp-events-plugin.com//7.2.3.1//EN
BEGIN:VEVENT
UID:530@monroestreetstudio.com
DTSTART;TZID=America/New_York:20250320T190000
DTEND;TZID=America/New_York:20250410T203000
DTSTAMP:20250513T224804Z
URL:https://monroestreetstudio.com/events/machine-sewing-for-beginners-adu
 lts-spring-summer-2025-thursday-2/
SUMMARY:Machine Sewing for Beginners Adults. Spring/Summer 2025. Thursday.
DESCRIPTION:Sewing for Beginners - Adults\n\nLearn a way to create beautifu
 l wearable or art objects! Join our sewing class and learn an ancient art 
 with a modern twist.\n\nIn this short course\, we will learn the following
 :\n\n 	Machine anatomy\, learning how to use all parts of the sewing machi
 ne correctly\n 	Threading the machine\n 	Changing the feet and needles\n 	
 Adjusting and fine-tuning your machine for different projects\n 	Purposes 
 of different types of stitches\n 	Sewing fabrics together\n 	Quilting bloc
 ks and quilting techniques (e.g. “sew as you go”)\n 	Batting and backi
 ng a quilt\n\nAll materials and tools will be provided. If you want to bri
 ng your sewing machine\, please inform us of the brand.\n\nTime: 7:00 pm -
  8:30 pm\n\nDates: 05/29\; 06/05\; 06/12\; 06/19\n\nPrice: $205.\n\nClass 
 Size: 4 Students
LOCATION:Monroe Street Studio\, 761 A\, Herndon\, VA\, 20170\, United State
 s
X-APPLE-STRUCTURED-LOCATION;VALUE=URI;X-ADDRESS=761 A\, Herndon\, VA\, 2017
 0\, United States;X-APPLE-RADIUS=100;X-TITLE=Monroe Street Studio:geo:0,0
END:VEVENT
BEGIN:VTIMEZONE
TZID:America/New_York
X-LIC-LOCATION:America/New_York
BEGIN:DAYLIGHT
DTSTART:20250309T030000
TZOFFSETFROM:-0500
TZOFFSETTO:-0400
TZNAME:EDT
END:DAYLIGHT
END:VTIMEZONE
END:VCALENDAR