BEGIN:VCALENDAR
VERSION:2.0
PRODID:-//wp-events-plugin.com//7.2.3.1//EN
BEGIN:VEVENT
UID:565@monroestreetstudio.com
DTSTART;TZID=America/New_York:20251008T110000
DTEND;TZID=America/New_York:20251022T120000
DTSTAMP:20250825T201654Z
URL:https://monroestreetstudio.com/events/modern-crochet-for-beginners-adu
 lts-teens-from-basics-to-art-wednesdays-fall-2025/
SUMMARY:Modern Crochet for Beginners: Adults & Teens: From Basics to Art. W
 ednesdays. Fall 2025.
DESCRIPTION:Discover how the timeless craft of crochet is making a creative
  comeback! Monroe Street Studio is excited to present a fresh\, modern tak
 e on this ancient art with our new Crochet Class for Adults and Teens.\n\n
 In this class\, you'll learn the essential stitches and techniques needed 
 to get started—from holding the hook to creating basic patterns. No prio
 r experience is necessary! Whether you're interested in crafting cozy home
  décor\, stylish accessories\, or one-of-a-kind wearable pieces\, this cl
 ass will give you the skills and inspiration to bring your ideas to life.\
 n\nJoin us for a relaxing\, hands-on experience that blends tradition with
  creativity. All materials provided. Come stitch with us!\n\nWednesdays\n\
 nTime: 11:00 am - noon\n\nDates: 10/08\; 10/15\; 10/22.\n\nClass Size: 6 S
 tudents\n\nFee:  $125\n\n&nbsp\;
END:VEVENT
BEGIN:VTIMEZONE
TZID:America/New_York
X-LIC-LOCATION:America/New_York
BEGIN:DAYLIGHT
DTSTART:20250309T030000
TZOFFSETFROM:-0500
TZOFFSETTO:-0400
TZNAME:EDT
END:DAYLIGHT
END:VTIMEZONE
END:VCALENDAR