BEGIN:VCALENDAR
VERSION:2.0
PRODID:-//wp-events-plugin.com//7.2.3.1//EN
BEGIN:VEVENT
UID:575@monroestreetstudio.com
DTSTART;TZID=America/New_York:20251027T100000
DTEND;TZID=America/New_York:20251117T113000
DTSTAMP:20251002T163902Z
URL:https://monroestreetstudio.com/events/morning-art-for-seniors-monday-f
 all-2025/
SUMMARY:Morning Art for Seniors. Monday\, Fall\, 2025
DESCRIPTION:Creative Stimulation &amp\; Cognitive Wellness\nA 4-week art pr
 ogram designed to inspire\, engage\, and strengthen the mind.\nJoin us for
  a joyful and enriching art experience tailored specifically for older adu
 lts. Our Morning Art Classes promote self-expression\, emotional healing
 \, cognitive stimulation\, and social interaction — all within a warm\, 
 cozy\, and professionally equipped art studio.\nParticipants will explore 
 a variety of hands-on projects such as:\n\n\n 	Painting\n 	Drawing\n 	Clay
  modeling\n 	Printmaking\n 	Mosaics\n 	And more!\n\nEach session offers no
 t only the joy of creative expression\, but also the benefits of mental 
 engagement\, fine motor skill development\, problem-solving\, and memor
 y support.\n Cognitive Benefits Through Art:\n\n 	Enhances focus and atte
 ntion\n 	Boosts memory and recall\n 	Encourages visual-spatial reasoning\n
  	Supports emotional expression\n 	Promotes neuroplasticity and lifelong l
 earning\n\n A Social\, Supportive Environment\nLed in a relaxed and welco
 ming setting\, our classes foster both individual creativity and commun
 ity connection. No prior art experience is needed — just a willingness t
 o explore\, create\, and connect.\n Join Us!\nCome be part of a creative 
 journey that nurtures the mind\, body\, and spirit through the power o
 f art.\nDate: 10/27\, 11/3\, 11/10\, 11/17\n\nTime: 10:00 am to 11:30 am\n
 \n4 Classes: $180
END:VEVENT
BEGIN:VTIMEZONE
TZID:America/New_York
X-LIC-LOCATION:America/New_York
BEGIN:DAYLIGHT
DTSTART:20250309T030000
TZOFFSETFROM:-0500
TZOFFSETTO:-0400
TZNAME:EDT
END:DAYLIGHT
BEGIN:STANDARD
DTSTART:20251102T010000
TZOFFSETFROM:-0400
TZOFFSETTO:-0500
TZNAME:EST
END:STANDARD
END:VTIMEZONE
END:VCALENDAR