BEGIN:VCALENDAR
VERSION:2.0
PRODID:-//wp-events-plugin.com//7.2.3.1//EN
BEGIN:VEVENT
UID:674@monroestreetstudio.com
DTSTART;TZID=America/New_York:20260408T100000
DTEND;TZID=America/New_York:20260429T113000
DTSTAMP:20260224T143939Z
URL:https://monroestreetstudio.com/events/morning-art-for-seniors-wednesda
 ys-spring-2026/
SUMMARY:Morning Art for Seniors. Wednesdays\, Spring\, 2026
DESCRIPTION:Creative Stimulation &amp\; Cognitive Wellness\nA 4-week art pr
 ogram designed to inspire\, engage\, and strengthen the mind.\nJoin us for
  a joyful and enriching art experience tailored specifically for older adu
 lts. Our Morning Art Classes promote self-expression\, emotional healing
 \, cognitive stimulation\, and social interaction — all within a warm\, 
 cozy\, and professionally equipped art studio.\nParticipants will explore 
 a variety of hands-on projects such as:\n\n\n 	Painting\n 	Drawing\n 	Clay
  modeling\n 	Printmaking\n 	Mosaics\n 	And more!\n\nEach session offers no
 t only the joy of creative expression\, but also the benefits of mental 
 engagement\, fine motor skill development\, problem-solving\, and memor
 y support.\n Cognitive Benefits Through Art:\n\n 	Enhances focus and atte
 ntion\n 	Boosts memory and recall\n 	Encourages visual-spatial reasoning\n
  	Supports emotional expression\n 	Promotes neuroplasticity and lifelong l
 earning\n\n A Social\, Supportive Environment\nLed in a relaxed and welco
 ming setting\, our classes foster both individual creativity and commun
 ity connection. No prior art experience is needed — just a willingness t
 o explore\, create\, and connect.\n Join Us!\nCome be part of a creative 
 journey that nurtures the mind\, body\, and spirit through the power o
 f art.\nWednesday\n\nDate:  04/08\, 04/15\, 04/22\, 04/29\n\nTime: 10:00 
 am to 11:30 am\n\n4 Classes: $18o
END:VEVENT
BEGIN:VTIMEZONE
TZID:America/New_York
X-LIC-LOCATION:America/New_York
BEGIN:DAYLIGHT
DTSTART:20260308T030000
TZOFFSETFROM:-0500
TZOFFSETTO:-0400
TZNAME:EDT
END:DAYLIGHT
END:VTIMEZONE
END:VCALENDAR