BEGIN:VCALENDAR
VERSION:2.0
PRODID:-//wp-events-plugin.com//7.2.3.1//EN
BEGIN:VEVENT
UID:615@monroestreetstudio.com
DTSTART;TZID=America/New_York:20251105T130000
DTEND;TZID=America/New_York:20251217T150000
DTSTAMP:20251013T115955Z
URL:https://monroestreetstudio.com/events/multimedia-art-class-for-homesch
 ooled-students-age-10-wednesdays-new-time-fall-ii-2025/
SUMMARY:Multimedia Art Class for Homeschooled Students (Age 10+) Wednesdays
  New Time\, Fall II\, 2025.
DESCRIPTION:This class offers a unique opportunity for homeschooled student
 s ages 10 and up to come together and experience the joy of making art in 
 a true studio environment. Students will explore a wide range of art techn
 iques\, materials\, and styles—from drawing and painting to sculpture an
 d mixed media. Each session introduces new themes and creative challenges\
 , helping students build their skills and confidence over time.\n\nWith sm
 all class sizes\, each student receives personalized attention and guidanc
 e\, whether they’re just beginning or already developing their artistic 
 voice. Throughout the academic year\, students will have the chance to sho
 wcase their work in Studio Exhibitions\, celebrating their creativity and 
 progress with friends and family.\n\nAll supplies are provided. \n\nAge 1
 0+\n\nWednesdays:\n\nTime: 1:00 pm - 3:00 pm\n\nDates: 11/05\, 11/12\, 11/
 19\, 12/03\, 12/10\, 12/17\n\n6 Classes: $330
LOCATION:Monroe Street Studio\, 761 A Monroe Street\, Herndon\, VA\, 20170\
 , United States
X-APPLE-STRUCTURED-LOCATION;VALUE=URI;X-ADDRESS=761 A Monroe Street\, Hernd
 on\, VA\, 20170\, United States;X-APPLE-RADIUS=100;X-TITLE=Monroe Street S
 tudio:geo:0,0
END:VEVENT
BEGIN:VTIMEZONE
TZID:America/New_York
X-LIC-LOCATION:America/New_York
BEGIN:STANDARD
DTSTART:20251102T010000
TZOFFSETFROM:-0400
TZOFFSETTO:-0500
TZNAME:EST
END:STANDARD
END:VTIMEZONE
END:VCALENDAR