BEGIN:VCALENDAR
VERSION:2.0
PRODID:-//wp-events-plugin.com//7.2.3.1//EN
BEGIN:VEVENT
UID:566@monroestreetstudio.com
DTSTART;TZID=America/New_York:20251110T100000
DTEND;TZID=America/New_York:20251215T113000
DTSTAMP:20250827T165051Z
URL:https://monroestreetstudio.com/events/multimedia-art-class-for-homesch
 ooled-students-age-7-mondays-fall-ii-2025/
SUMMARY:Multimedia Art Class for Homeschooled Students (Age 7+) Mondays\, F
 all II\, 2025.
DESCRIPTION:Multimedia Art Class for Homeschooled Students (Ages 7+)Monroe 
 Street Studio\nThis unique class offers homeschooled students a chance to 
 come together in a welcoming professional art studio environment—a space
  designed to inspire creativity and exploration.\nStudents will dive into 
 a variety of art techniques\, materials\, and foundational concepts in vis
 ual art\, gaining hands-on experience with drawing\, painting\, sculpture\
 , and mixed media. Each session introduces new themes and creative challen
 ges\, helping students build on their skills and grow with confidence.\nIt
 ’s a place where young artists can share ideas\, support each other\, an
 d express themselves freely in a circle of like-minded peers.\nWith small 
 class sizes\, each student receives personalized attention and guidance ta
 ilored to their individual interests and abilities. Whether your child is 
 a budding artist or just beginning their creative journey\, this class enc
 ourages both artistic growth and joyful expression.\nAll supplies are prov
 ided.  \nMondays\n\nTime: 10:00 am - 11:30 am\n\nDates: 11/10\, 11/17\, 
 11/24\, 12/01\, 12/08\, 12/15\n\n6 Classes: $300
LOCATION:Monroe Street Studio\, 761 A Monroe Street\, Herndon\, VA\, 20170\
 , United States
X-APPLE-STRUCTURED-LOCATION;VALUE=URI;X-ADDRESS=761 A Monroe Street\, Hernd
 on\, VA\, 20170\, United States;X-APPLE-RADIUS=100;X-TITLE=Monroe Street S
 tudio:geo:0,0
END:VEVENT
BEGIN:VTIMEZONE
TZID:America/New_York
X-LIC-LOCATION:America/New_York
BEGIN:STANDARD
DTSTART:20251102T010000
TZOFFSETFROM:-0400
TZOFFSETTO:-0500
TZNAME:EST
END:STANDARD
END:VTIMEZONE
END:VCALENDAR