BEGIN:VCALENDAR
VERSION:2.0
PRODID:-//wp-events-plugin.com//7.2.3.1//EN
BEGIN:VEVENT
UID:548@monroestreetstudio.com
DTSTART;TZID=America/New_York:20250908T100000
DTEND;TZID=America/New_York:20251027T113000
DTSTAMP:20250903T165045Z
URL:https://monroestreetstudio.com/events/multimedia-art-class-for-homesch
 ooled-students-age-7fall-112025/
SUMMARY:Multimedia Art Class for Homeschooled Students (Age 7+). Mondays. F
 all I\, 2025.
DESCRIPTION:Multimedia Art Class for Homeschooled Students (Ages 7+)\nThis 
 unique class offers homeschooled students the opportunity to come together
  in a welcoming\, professional art studio environment—a space designed t
 o inspire creativity and exploration.\nStudents will explore a wide range 
 of artistic techniques\, materials\, and foundational visual art concepts 
 through hands-on projects in drawing\, painting\, sculpture\, and mixed me
 dia. Each session brings exciting new themes and creative challenges desig
 ned to strengthen their skills and boost artistic confidence.\nIt’s a pl
 ace where young artists can share ideas\, support each other\, and express
  themselves freely in a circle of like-minded peers. With small class siz
 es\, each student receives personalized attention and guidance tailored to
  their individual interests and abilities. Whether your child is a budding
  artist or just beginning their creative journey\, this class encourages b
 oth artistic growth and joyful expression.\nAll supplies are included. \n
 Age: 7+\nMondays\n\nTime: 10:00 am - 11:30 am\n\nDates: 09/08\, 09/15\, 09
 /22\, 09/29\, 10/06\, 10/20\, 10/27\n\nNote: No Class on Columbus Day 10/1
 3\n\n7 Classes: $350
LOCATION:Monroe Street Studio\, 761 A Monroe Street\, Herndon\, VA\, 20170\
 , United States
X-APPLE-STRUCTURED-LOCATION;VALUE=URI;X-ADDRESS=761 A Monroe Street\, Hernd
 on\, VA\, 20170\, United States;X-APPLE-RADIUS=100;X-TITLE=Monroe Street S
 tudio:geo:0,0
END:VEVENT
BEGIN:VTIMEZONE
TZID:America/New_York
X-LIC-LOCATION:America/New_York
BEGIN:DAYLIGHT
DTSTART:20250309T030000
TZOFFSETFROM:-0500
TZOFFSETTO:-0400
TZNAME:EDT
END:DAYLIGHT
END:VTIMEZONE
END:VCALENDAR