BEGIN:VCALENDAR
VERSION:2.0
PRODID:-//wp-events-plugin.com//7.2.3.1//EN
BEGIN:VEVENT
UID:587@monroestreetstudio.com
DTSTART;TZID=America/New_York:20260110T120000
DTEND;TZID=America/New_York:20260228T133000
DTSTAMP:20250911T140829Z
URL:https://monroestreetstudio.com/events/multimedia-art-class-for-interme
 diate-advanced-students-saturdays-winter-2026/
SUMMARY:Multimedia Art Class for Intermediate/Advanced Students. Saturdays\
 , Winter 2026.
DESCRIPTION:Multimedia Art – Ages 10+ (Intermediate/Advanced Students)\nT
 his course is designed for intermediate and advanced young artists who are
  ready to enhance their skills and take their creativity to the next level
 . Students will work on a variety of painting and drawing projects\, expl
 oring more advanced techniques\, concepts\, and materials—including acry
 lics\, oil pastels\, watercolor\, charcoal\, ink\, and mixed media. Instr
 uction focuses on developing a stronger understanding of composition\, per
 spective\, shading\, proportion\, color theory\, and creative problem-solv
 ing through guided and independent work.\nWith small class sizes\, student
 s receive individualized feedback and mentorship\, allowing for thoughtful
  artistic growth\, experimentation\, and portfolio development. Each sess
 ion introduces a new theme or focus\, providing fresh challenges that enco
 urage returning students to build on previous experience and refine their 
 personal style.\nAll supplies are provided. \nSaturdays\n\nDates: 01/10\,
  01/17\, 01/24\, 02/07\, 02/21\, 02/28\n\nNote: No Class on 01/31 and 02/1
 4\n\nTime: 12:00 pm- 1:30 pm\n\n6 Classes  - $312
LOCATION:Monroe Street Studio\, 761 A Monroe Street\, Herndon\, VA\, 20170\
 , United States
X-APPLE-STRUCTURED-LOCATION;VALUE=URI;X-ADDRESS=761 A Monroe Street\, Hernd
 on\, VA\, 20170\, United States;X-APPLE-RADIUS=100;X-TITLE=Monroe Street S
 tudio:geo:0,0
END:VEVENT
BEGIN:VTIMEZONE
TZID:America/New_York
X-LIC-LOCATION:America/New_York
BEGIN:STANDARD
DTSTART:20251102T010000
TZOFFSETFROM:-0400
TZOFFSETTO:-0500
TZNAME:EST
END:STANDARD
END:VTIMEZONE
END:VCALENDAR