BEGIN:VCALENDAR
VERSION:2.0
PRODID:-//wp-events-plugin.com//7.2.3.1//EN
BEGIN:VEVENT
UID:581@monroestreetstudio.com
DTSTART;TZID=America/New_York:20260106T163000
DTEND;TZID=America/New_York:20260224T180000
DTSTAMP:20250911T001903Z
URL:https://monroestreetstudio.com/events/multimedia-art-class-for-student
 s-age-8-tuesday-winter-2026/
SUMMARY:Multimedia Art Class for Students Age 8+. Tuesday. Winter 2026
DESCRIPTION:Multimedia Art Classes for Young Artists (Ages 8+)Explore. Crea
 te. Grow.\nIn our highly popular Multimedia Art classes\, young artists ag
 es 8 and up explore a rich variety of creative techniques. Designed for bo
 th beginners and intermediate students\, each session offers engaging\, ha
 nds-on projects in painting\, drawing\, printmaking\, and clay modeling.\n
 Students work with a diverse range of materials\, including acrylic paint\
 , oil pastels\, watercolor\, charcoal\, ink\, and more—while learning co
 re art concepts such as composition\, perspective\, volume\, and color the
 ory\, all taught in a fun and age-appropriate manner.\nWith small class si
 zes\, every student receives individualized instruction\, allowing them to
  express themselves freely and build skills at their own pace.\nEach sessi
 on throughout the academic year introduces new themes and techniques\, giv
 ing returning students fresh challenges and opportunities to grow artistic
 ally.\nStudent artworks will be proudly showcased in our annual Studio Art
  Show at the end of the school year!\nAll supplies are included.\nAge: 8+\
 n\nTuesdays\n\nTime: 4:30 pm - 6:00 pm\n\nDate: 01/06\, 01/13\, 01/20\, 01
 /27\, 02/03\, 02/10\, 02/24\n\nNote: No class 02/17\n\n7 Classes - $364\n\
 n&nbsp\;
CATEGORIES:Multimedia
LOCATION:Monroe Street Studio\, 761 A Monroe Street\, Herndon\, VA\, 20170\
 , United States
X-APPLE-STRUCTURED-LOCATION;VALUE=URI;X-ADDRESS=761 A Monroe Street\, Hernd
 on\, VA\, 20170\, United States;X-APPLE-RADIUS=100;X-TITLE=Monroe Street S
 tudio:geo:0,0
END:VEVENT
BEGIN:VTIMEZONE
TZID:America/New_York
X-LIC-LOCATION:America/New_York
BEGIN:STANDARD
DTSTART:20251102T010000
TZOFFSETFROM:-0400
TZOFFSETTO:-0500
TZNAME:EST
END:STANDARD
END:VTIMEZONE
END:VCALENDAR