BEGIN:VCALENDAR
VERSION:2.0
PRODID:-//wp-events-plugin.com//7.2.3.1//EN
BEGIN:VEVENT
UID:586@monroestreetstudio.com
DTSTART;TZID=America/New_York:20260110T090000
DTEND;TZID=America/New_York:20260228T100000
DTSTAMP:20260107T001432Z
URL:https://monroestreetstudio.com/events/multimedia-art-for-children-age-
 5-6-saturdays-winter-2026/
SUMMARY:Multimedia Art for Children Age 5-6\, Saturdays\, Winter 2026.
DESCRIPTION:Multimedia Art – Ages 5–6\nIn our popular Multimedia Art co
 urses\, our youngest artists (ages 5–6) dive into a world of creativity 
 through a variety of fun and engaging projects in Painting and Drawing. Us
 ing media such as acrylic paint\, oil pastels\, watercolor\, charcoal\, an
 d more\, students explore different artistic styles\, techniques\, and app
 roaches in a playful and age-appropriate environment.\nKey art concepts li
 ke composition\, perspective\, and dimension are introduced in ways that s
 upport early developmental stages and creative confidence. Small class siz
 es ensure each child receives personalized guidance and encouragement from
  the Art Teacher\, helping them grow in both skill and self-expression.\nE
 ach session throughout the academic year features a new and exciting theme
 \, so students experience something fresh and continue building their arti
 stic abilities every time they join.\nSaturdays\n\nDates: 01/10\, 01/17\, 
 01/24\, 02/07\, 02/21\, 02/28\n\nNote: No Class on 01/31 and 02/14\n\nTime
 : 9:00 am - 10:00 am\n\n6 Classes: $192
LOCATION:Monroe Street Studio\, 761 A Monroe Street\, Herndon\, VA\, 20170\
 , United States
X-APPLE-STRUCTURED-LOCATION;VALUE=URI;X-ADDRESS=761 A Monroe Street\, Hernd
 on\, VA\, 20170\, United States;X-APPLE-RADIUS=100;X-TITLE=Monroe Street S
 tudio:geo:0,0
END:VEVENT
BEGIN:VTIMEZONE
TZID:America/New_York
X-LIC-LOCATION:America/New_York
BEGIN:STANDARD
DTSTART:20251102T010000
TZOFFSETFROM:-0400
TZOFFSETTO:-0500
TZNAME:EST
END:STANDARD
END:VTIMEZONE
END:VCALENDAR