BEGIN:VCALENDAR
VERSION:2.0
PRODID:-//wp-events-plugin.com//7.2.3.1//EN
BEGIN:VEVENT
UID:546@monroestreetstudio.com
DTSTART;TZID=America/New_York:20250906T120000
DTEND;TZID=America/New_York:20251025T133000
DTSTAMP:20250828T230909Z
URL:https://monroestreetstudio.com/events/multimedia-art-for-intermediate-
 advanced-students-fall-1-2025/
SUMMARY:Multimedia Art Class for Intermediate/Advanced Students. Saturdays\
 , Fall I\, 2025.
DESCRIPTION:Multimedia Art – Ages 10+ (Intermediate/Advanced Students)\nT
 his course is designed for intermediate and advanced young artists who are
  ready to enhance their skills and take their creativity to the next level
 . Students will work on a variety of painting and drawing projects\, expl
 oring more advanced techniques\, concepts\, and materials—including acry
 lics\, oil pastels\, watercolor\, charcoal\, ink\, and mixed media. Instr
 uction focuses on developing a stronger understanding of composition\, per
 spective\, shading\, proportion\, color theory\, and creative problem-solv
 ing through guided and independent work.\nWith small class sizes\, student
 s receive individualized feedback and mentorship\, allowing for thoughtful
  artistic growth\, experimentation\, and portfolio development. Each sess
 ion introduces a new theme or focus\, providing fresh challenges that enco
 urage returning students to build on previous experience and refine their 
 personal style.\nAll supplies are provided. \nSaturdays\n\nDate: 09/06 - 
 10/25\n\nTime: 12:00 pm- 1:30 pm\n\n8 Classes  - $416
LOCATION:Monroe Street Studio\, 761 A Monroe Street\, Herndon\, VA\, 20170\
 , United States
X-APPLE-STRUCTURED-LOCATION;VALUE=URI;X-ADDRESS=761 A Monroe Street\, Hernd
 on\, VA\, 20170\, United States;X-APPLE-RADIUS=100;X-TITLE=Monroe Street S
 tudio:geo:0,0
END:VEVENT
BEGIN:VTIMEZONE
TZID:America/New_York
X-LIC-LOCATION:America/New_York
BEGIN:DAYLIGHT
DTSTART:20250309T030000
TZOFFSETFROM:-0500
TZOFFSETTO:-0400
TZNAME:EDT
END:DAYLIGHT
END:VTIMEZONE
END:VCALENDAR