BEGIN:VCALENDAR
VERSION:2.0
PRODID:-//wp-events-plugin.com//7.2.3.1//EN
BEGIN:VEVENT
UID:541@monroestreetstudio.com
DTSTART;TZID=America/New_York:20250909T163000
DTEND;TZID=America/New_York:20251028T180000
DTSTAMP:20250828T190732Z
URL:https://monroestreetstudio.com/events/multimedia-art-for-students-tues
 day-fall-1-2025/
SUMMARY:Multimedia Art Class for Students Age 8+. Tuesday. Fall I\, 2025
DESCRIPTION:Multimedia Art Classes for Young Artists (Ages 8+)Explore. Crea
 te. Grow.\nIn our highly popular Multimedia Art classes\, young artists ag
 es 8 and up explore a rich variety of creative techniques. Designed for bo
 th beginners and intermediate students\, each session offers engaging\, ha
 nds-on projects in painting\, drawing\, printmaking\, and clay modeling.\n
 Students work with a diverse range of materials\, including acrylic paint\
 , oil pastels\, watercolor\, charcoal\, ink\, and more—while learning co
 re art concepts such as composition\, perspective\, volume\, and color the
 ory\, all taught in a fun and age-appropriate manner.\nWith small class si
 zes\, every student receives individualized instruction\, allowing them to
  express themselves freely and build skills at their own pace.\nEach sessi
 on throughout the academic year introduces new themes and techniques\, giv
 ing returning students fresh challenges and opportunities to grow artistic
 ally.\nStudent artworks will be proudly showcased in our annual Studio Art
  Show at the end of the school year!\nAll supplies are included.\nAge: 8+\
 n\nTuesdays\n\nTime: 4:30 pm - 6:00 pm\n\nDate: 09/09\, 09/16\, 09/30\, 10
 /07\, 10/14\, 10/21\, 10/28\n\nNote: No Class 09/23\n\n7 Classes - $364\n\
 n&nbsp\;
CATEGORIES:Multimedia
LOCATION:Monroe Street Studio\, 761 A Monroe Street\, Herndon\, VA\, 20170\
 , United States
X-APPLE-STRUCTURED-LOCATION;VALUE=URI;X-ADDRESS=761 A Monroe Street\, Hernd
 on\, VA\, 20170\, United States;X-APPLE-RADIUS=100;X-TITLE=Monroe Street S
 tudio:geo:0,0
END:VEVENT
BEGIN:VTIMEZONE
TZID:America/New_York
X-LIC-LOCATION:America/New_York
BEGIN:DAYLIGHT
DTSTART:20250309T030000
TZOFFSETFROM:-0500
TZOFFSETTO:-0400
TZNAME:EDT
END:DAYLIGHT
END:VTIMEZONE
END:VCALENDAR