BEGIN:VCALENDAR
VERSION:2.0
PRODID:-//wp-events-plugin.com//7.2.3.1//EN
BEGIN:VEVENT
UID:584@monroestreetstudio.com
DTSTART;TZID=America/New_York:20260110T100000
DTEND;TZID=America/New_York:20260228T113000
DTSTAMP:20251229T182144Z
URL:https://monroestreetstudio.com/events/multimedia-art-for-young-student
 s-age-7-9-saturdays-winter-2026/
SUMMARY:Multimedia Art for Young Students (Age 7-9). Saturdays\, Winter 202
 6.
DESCRIPTION:Multimedia Art – Ages 7–9 (Beginner/Returning Students)\nIn
  our popular Multimedia Art courses\, beginner and returning students ages
  7–9 engage in a wide range of exciting projects across Painting\, Drawi
 ng\, Printmaking\, Clay Modeling\, and more. Working with diverse material
 s such as acrylic paint\, oil pastels\, watercolor\, ink\, charcoal\, mark
 ers\, and dry pastels\, students explore a variety of artistic styles\, te
 chniques\, and creative approaches.\nKey visual art concepts like composit
 ion\, perspective\, and volume are introduced at developmentally appropria
 te levels\, helping young artists build a strong foundation in both skill 
 and understanding. With small class sizes\, each student receives personal
 ized instruction and support from the Art Teacher\, encouraging confidence
  and individual artistic growth.\nEach session during the academic year fe
 atures a new theme\, offering fresh inspiration and the opportunity to exp
 and on previous skills with every enrollment. Selected student artworks wi
 ll be proudly displayed in Studio Art Show held at the end of the school y
 ear.\n&nbsp\;\n\nAge: 7-9\n\nDates: 01/10\, 01/17\, 01/24\, 02/07\, 02/21\
 , 02/28\n\nNote: No Class on 01/31 and 02/14\n\nTime: 10:00am - 11:30am\n\
 n6 Classes: $312
LOCATION:Monroe Street Studio\, 761 A Monroe Street\, Herndon\, VA\, 20170\
 , United States
X-APPLE-STRUCTURED-LOCATION;VALUE=URI;X-ADDRESS=761 A Monroe Street\, Hernd
 on\, VA\, 20170\, United States;X-APPLE-RADIUS=100;X-TITLE=Monroe Street S
 tudio:geo:0,0
END:VEVENT
BEGIN:VTIMEZONE
TZID:America/New_York
X-LIC-LOCATION:America/New_York
BEGIN:STANDARD
DTSTART:20251102T010000
TZOFFSETFROM:-0400
TZOFFSETTO:-0500
TZNAME:EST
END:STANDARD
END:VTIMEZONE
END:VCALENDAR