BEGIN:VCALENDAR
VERSION:2.0
PRODID:-//wp-events-plugin.com//7.2.3.1//EN
BEGIN:VEVENT
UID:576@monroestreetstudio.com
DTSTART;TZID=America/New_York:20250929T100000
DTEND;TZID=America/New_York:20250929T113000
DTSTAMP:20250922T151428Z
URL:https://monroestreetstudio.com/events/paint-a-pumpkin-fall-workshop-mo
 nday-september-29th/
SUMMARY:Paint a Pumpkin Challenge\, Fall Workshop\, Monday\, September 29th
DESCRIPTION:Abstract Acrylic Painting on Wood\, Canvas\, or Glassware\nCele
 brate fall with a fun\, hands-on painting experience! Use vibrant acrylics
  to create your own abstract pumpkin on your choice of wood\, canvas\, or 
 glass. No experience needed — just bring your creativity!\nLeave with a 
 one-of-a-kind autumn decoration and a big splash of seasonal spirit.\nAll 
 materials provided.\nMonday\nSeptember 29th\n10:00 am - 11:30 am\nCost: $4
 5
END:VEVENT
BEGIN:VTIMEZONE
TZID:America/New_York
X-LIC-LOCATION:America/New_York
BEGIN:DAYLIGHT
DTSTART:20250309T030000
TZOFFSETFROM:-0500
TZOFFSETTO:-0400
TZNAME:EDT
END:DAYLIGHT
END:VTIMEZONE
END:VCALENDAR