BEGIN:VCALENDAR
VERSION:2.0
PRODID:-//wp-events-plugin.com//7.2.3.1//EN
BEGIN:VEVENT
UID:662@monroestreetstudio.com
DTSTART;TZID=America/New_York:20260508T183000
DTEND;TZID=America/New_York:20260508T200000
DTSTAMP:20260423T000820Z
URL:https://monroestreetstudio.com/events/pour-and-sip-workshop-may-8th-20
 26/
SUMMARY:Pour & Sip Workshop - May 8th\, 2026 6:30 pm
DESCRIPTION:Pour &amp\; Sip Art Experience\nDive into the exciting world of
  acrylic paint pouring! In this hands-on workshop\, you’ll learn fun flu
 id art techniques and create your own vibrant\, one-of-a-kind painting.\n
 ✨ All materials provided✨ Step-by-step guidance✨ Bring your favorite
  drink &amp\; snacks. Guests 21+ are welcome to bring their own wine or be
 er. Monroe Street Studio does not provide or sell alcohol.\nPerfect for a 
 night out\, team bonding\, or simply treating yourself to something creati
 ve and new!\nPlease note: Artwork will need to remain at the studio to dry
  for at least 3 days before pickup.\nDate: Friday\, May 8th\nTime: 6:30 PM
  – 8:00 PM\nCost: $55\n
END:VEVENT
BEGIN:VTIMEZONE
TZID:America/New_York
X-LIC-LOCATION:America/New_York
BEGIN:DAYLIGHT
DTSTART:20260308T030000
TZOFFSETFROM:-0500
TZOFFSETTO:-0400
TZNAME:EDT
END:DAYLIGHT
END:VTIMEZONE
END:VCALENDAR