BEGIN:VCALENDAR
VERSION:2.0
PRODID:-//wp-events-plugin.com//7.2.3.1//EN
BEGIN:VEVENT
UID:687@monroestreetstudio.com
DTSTART;TZID=America/New_York:20260529T183000
DTEND;TZID=America/New_York:20260529T200000
DTSTAMP:20260423T000942Z
URL:https://monroestreetstudio.com/events/pour-sip-workshop-may-29th-630-p
 m/
SUMMARY:Pour & Sip Workshop - May 29th 6:30 pm
DESCRIPTION:Pour &amp\; Sip Art Experience\nDive into the exciting world of
  acrylic paint pouring! In this hands-on workshop\, you’ll learn fun flu
 id art techniques and create your own vibrant\, one-of-a-kind painting.\n
 ✨ All materials provided✨ Step-by-step guidance✨ Bring your favorite
  drink &amp\; snacks. Guests 21+ are welcome to bring their own wine or be
 er. Monroe Street Studio does not provide or sell alcohol.\nPlease note: A
 rtwork will need to remain at the studio to dry for at least 3 days before
  pickup.\nPerfect for a night out\, team bonding\, or simply treating your
 self to something creative and new!\nDate: Friday\, May 29th\nTime: 6:30 P
 M – 8:00 PM\nCost: $55
END:VEVENT
BEGIN:VTIMEZONE
TZID:America/New_York
X-LIC-LOCATION:America/New_York
BEGIN:DAYLIGHT
DTSTART:20260308T030000
TZOFFSETFROM:-0500
TZOFFSETTO:-0400
TZNAME:EDT
END:DAYLIGHT
END:VTIMEZONE
END:VCALENDAR