BEGIN:VCALENDAR
VERSION:2.0
PRODID:-//wp-events-plugin.com//7.2.3.1//EN
BEGIN:VEVENT
UID:665@monroestreetstudio.com
DTSTART;TZID=America/New_York:20260410T100000
DTEND;TZID=America/New_York:20260410T113000
DTSTAMP:20260317T133524Z
URL:https://monroestreetstudio.com/events/sadias-party-april-10th-1000-am/
SUMMARY:Sadia's Party - April 10th. 10:00 AM
DESCRIPTION:Sadia's Party - April 10th.\nEvent Details:\nPaining with Acryl
 ic\nApril 10th (Friday)\nTime: 10:00 AM - 11:30 AM\nCost: $180\nNumber of 
 Participants: 4
END:VEVENT
BEGIN:VTIMEZONE
TZID:America/New_York
X-LIC-LOCATION:America/New_York
BEGIN:DAYLIGHT
DTSTART:20260308T030000
TZOFFSETFROM:-0500
TZOFFSETTO:-0400
TZNAME:EDT
END:DAYLIGHT
END:VTIMEZONE
END:VCALENDAR