BEGIN:VCALENDAR
VERSION:2.0
PRODID:-//wp-events-plugin.com//7.2.3.1//EN
BEGIN:VEVENT
UID:610@monroestreetstudio.com
DTSTART;TZID=America/New_York:20251020T190000
DTEND;TZID=America/New_York:20251110T203000
DTSTAMP:20250922T181652Z
URL:https://monroestreetstudio.com/events/sewing-for-beginners-for-adults-
 mondays-fall-2025/
SUMMARY:Sewing for Beginners for Adults\, Mondays\, Fall\, 2025
DESCRIPTION:\n\n\n\n\n\n\n\n\n\nSewing for Beginners – Adults\nDiscover t
 he Art of Sewing: Ancient Craft\, Modern Style\nNeedles are more than tool
 s—they’re a gateway to creativity! Join our beginner-friendly sewing c
 lass and explore the timeless art of sewing with a modern twist.\nIn this 
 hands-on course\, you’ll gain foundational skills while building confide
 nce at the machine. We’ll cover:\n\n\n 	Machine anatomy – understandin
 g all parts of the sewing machine and their functions\n 	Threading the mac
 hine\n 	Changing feet and needles\n 	Adjusting and fine-tuning your machin
 e for different projects\n 	Types of stitches – what they are and when t
 o use them\n 	Types of fabric – how to identify and handle each\n 	Sewin
 g fabrics together\n 	Quilting blocks and techniques\, including “sew as
  you go”\n 	Using batting and backing to finish a quilt\n\nWhether you
 ’re brand new to sewing or just looking to refresh your skills\, this co
 urse is the perfect place to start.\nAll materials and tools are provided.
 \n\n\n\n\n\n\n\n\n\n\n\nTime: 7:00 pm - 8:30 pm\n\nDates: 10/20\; 10/27\; 
 11/03\; 11/10\n\nPrice: $220.00\n\nClass Size: 4 Students
LOCATION:Monroe Street Studio\, 761 A\, Herndon\, VA\, 20170\, United State
 s
X-APPLE-STRUCTURED-LOCATION;VALUE=URI;X-ADDRESS=761 A\, Herndon\, VA\, 2017
 0\, United States;X-APPLE-RADIUS=100;X-TITLE=Monroe Street Studio:geo:0,0
END:VEVENT
BEGIN:VTIMEZONE
TZID:America/New_York
X-LIC-LOCATION:America/New_York
BEGIN:DAYLIGHT
DTSTART:20250309T030000
TZOFFSETFROM:-0500
TZOFFSETTO:-0400
TZNAME:EDT
END:DAYLIGHT
BEGIN:STANDARD
DTSTART:20251102T010000
TZOFFSETFROM:-0400
TZOFFSETTO:-0500
TZNAME:EST
END:STANDARD
END:VTIMEZONE
END:VCALENDAR