BEGIN:VCALENDAR
VERSION:2.0
PRODID:-//wp-events-plugin.com//7.2.3.1//EN
BEGIN:VEVENT
UID:654@monroestreetstudio.com
DTSTART;TZID=America/New_York:20260306T183000
DTEND;TZID=America/New_York:20260306T200000
DTSTAMP:20260305T184830Z
URL:https://monroestreetstudio.com/events/spring-workshop-acrylic-painting
 -for-beginners-adults-march-6th-2026/
SUMMARY:Spring Workshop: Acrylic Painting for Beginners. Adults. March 6th\
 , 2026
DESCRIPTION:Spring Workshop: Acrylic Painting for Beginners.\nJoin us in ce
 lebrating International Women’s Day with a special creative workshop!\nW
 e’re hosting a Limited Color Palette Hydrangea Painting Workshop\, where
  we’ll explore elegance\, balance\, and expression through a focused col
 or approach.\nJoin us for a fun and memorable experience. Bring your favor
 ite drink and treats to enjoy while creating a masterpiece!\nFriday\, Marc
 h 6th\n6:30 pm to 8:00 pm\n$45
ATTACH;FMTTYPE=image/jpeg:https://monroestreetstudio.com/wp-content/upload
 s/2026/01/IMG_9238-1.jpeg
END:VEVENT
BEGIN:VTIMEZONE
TZID:America/New_York
X-LIC-LOCATION:America/New_York
BEGIN:STANDARD
DTSTART:20251102T010000
TZOFFSETFROM:-0400
TZOFFSETTO:-0500
TZNAME:EST
END:STANDARD
END:VTIMEZONE
END:VCALENDAR