BEGIN:VCALENDAR
VERSION:2.0
PRODID:-//wp-events-plugin.com//7.2.3.1//EN
BEGIN:VEVENT
UID:556@monroestreetstudio.com
DTSTART;TZID=America/New_York:20251021T190000
DTEND;TZID=America/New_York:20251125T203000
DTSTAMP:20250927T133936Z
URL:https://monroestreetstudio.com/events/stained-glass-for-beginner-adult
 s-fall-2025-winter-2026-2/
SUMMARY:Stained Glass for Beginner Adults. Fall 2025/Winter2026.
DESCRIPTION:This is the perfect place for adults new to Tiffany Stile Stain
 ed Glass Art and want to learn how it is done from A to Z. During this cou
 rse\, each participant will complete a Stained Glass Sun-catcher project o
 f easy to moderate difficulty.  Taught within our exclusive Glass Art Stu
 dio space\, our class size is kept small\, focusing on having fun with Sta
 ined Glass and learning to do it well and safely.  Tools and equipment fo
 r cutting\, grinding\, and soldering are provided\, as well as a selection
  of colorful Stained Glass.\n\nThis project takes 6 classes to complete.\n
 \n&nbsp\;\n\nTuesdays\n\nTime: 7:00 pm - 8:30 pm\n\nDates: 10/21\; 10/28\;
  11/04\; 11/11\; 11/18\; 11/25.\n\nFee:  $354.\n\n4 Students.
CATEGORIES:Stained Glass
LOCATION:Monroe Street Studio\, 761 A Monroe Street\, Herndon\, VA\, 20170\
 , United States
X-APPLE-STRUCTURED-LOCATION;VALUE=URI;X-ADDRESS=761 A Monroe Street\, Hernd
 on\, VA\, 20170\, United States;X-APPLE-RADIUS=100;X-TITLE=Monroe Street S
 tudio:geo:0,0
END:VEVENT
BEGIN:VTIMEZONE
TZID:America/New_York
X-LIC-LOCATION:America/New_York
BEGIN:DAYLIGHT
DTSTART:20250309T030000
TZOFFSETFROM:-0500
TZOFFSETTO:-0400
TZNAME:EDT
END:DAYLIGHT
BEGIN:STANDARD
DTSTART:20251102T010000
TZOFFSETFROM:-0400
TZOFFSETTO:-0500
TZNAME:EST
END:STANDARD
END:VTIMEZONE
END:VCALENDAR