BEGIN:VCALENDAR
VERSION:2.0
PRODID:-//wp-events-plugin.com//7.2.3.1//EN
BEGIN:VEVENT
UID:686@monroestreetstudio.com
DTSTART;TZID=America/New_York:20260509T140000
DTEND;TZID=America/New_York:20260627T153000
DTSTAMP:20260324T233129Z
URL:https://monroestreetstudio.com/events/stained-glass-for-beginner-adult
 s-saturdays-spring-2026/
SUMMARY:Stained Glass for Beginner Adults. Saturdays. Spring. 2026.
DESCRIPTION:This is the perfect place for adults new to Tiffany Stile Stain
 ed Glass Art and want to learn how it is done from A to Z. During this cou
 rse\, each participant will complete a Stained Glass Sun-catcher project o
 f easy to moderate difficulty.  Taught within our exclusive Glass Art Stu
 dio space\, our class size is kept small\, focusing on having fun with Sta
 ined Glass and learning to do it well and safely.  Tools and equipment fo
 r cutting\, grinding\, and soldering are provided\, as well as a selection
  of colorful Stained Glass.\n\nThis project takes 6 classes to complete.\n
 \nAs a bonus\, participants receive 10% off enrollment in upcoming Staine
 d Glass Panel for Returning Adults classes.\n\n&nbsp\;\n\nSaturdays\n\nTim
 e: 2:00 pm - 3:30 pm\n\nDates: 05/09\; 05/16\; 05/30\, 06/13\; 06/20\; 06/
 27\n\nNote: NO class 05/23 (Memorial Day Weekend) and 06/06 (Studio's Exhi
 bition Day)\n\nCost: $354\n\n&nbsp\;
CATEGORIES:Stained Glass
LOCATION:Monroe Street Studio\, 761 A Monroe Street\, Herndon\, VA\, 20170\
 , United States
X-APPLE-STRUCTURED-LOCATION;VALUE=URI;X-ADDRESS=761 A Monroe Street\, Hernd
 on\, VA\, 20170\, United States;X-APPLE-RADIUS=100;X-TITLE=Monroe Street S
 tudio:geo:0,0
END:VEVENT
BEGIN:VTIMEZONE
TZID:America/New_York
X-LIC-LOCATION:America/New_York
BEGIN:DAYLIGHT
DTSTART:20260308T030000
TZOFFSETFROM:-0500
TZOFFSETTO:-0400
TZNAME:EDT
END:DAYLIGHT
END:VTIMEZONE
END:VCALENDAR