BEGIN:VCALENDAR
VERSION:2.0
PRODID:-//wp-events-plugin.com//7.2.3.1//EN
BEGIN:VEVENT
UID:527@monroestreetstudio.com
DTSTART;TZID=America/New_York:20250603T190000
DTEND;TZID=America/New_York:20250701T203000
DTSTAMP:20250315T002658Z
URL:https://monroestreetstudio.com/events/stained-glass-for-beginner-adult
 s-summer-2025-tuesdays/
SUMMARY:Stained Glass for Beginner Adults. Summer 2025\, Tuesday.
DESCRIPTION:This is the perfect place for adults new to Stained Glass Art a
 nd want to learn how it is done from A to Z. During this course\, each par
 ticipant will complete a Stained Glass Sun-catcher project of easy to mode
 rate difficulty.  Taught within our exclusive Glass Art Studio space\, ou
 r class size is kept small\, focusing on having fun with Stained Glass and
  learning to do it well and safely.  Tools and equipment for cutting\, gr
 inding\, and soldering are provided\, as well as a selection of colorful S
 tained Glass.\n\nThis project takes 5 classes to complete.\n\n&nbsp\;\n\nT
 ime: 7:00 pm - 8:30 pm\n\nDates:06/03\; 06/10\; 06/17\; 06/24\; 07/01.\n\n
 Fee:  $295 (5 classes + 1.5 hours of open studio time)
CATEGORIES:Stained Glass
LOCATION:Monroe Street Studio\, 761 A Monroe Street\, Herndon\, VA\, 20170\
 , United States
X-APPLE-STRUCTURED-LOCATION;VALUE=URI;X-ADDRESS=761 A Monroe Street\, Hernd
 on\, VA\, 20170\, United States;X-APPLE-RADIUS=100;X-TITLE=Monroe Street S
 tudio:geo:0,0
END:VEVENT
BEGIN:VTIMEZONE
TZID:America/New_York
X-LIC-LOCATION:America/New_York
BEGIN:DAYLIGHT
DTSTART:20250309T030000
TZOFFSETFROM:-0500
TZOFFSETTO:-0400
TZNAME:EDT
END:DAYLIGHT
END:VTIMEZONE
END:VCALENDAR