BEGIN:VCALENDAR
VERSION:2.0
PRODID:-//wp-events-plugin.com//7.2.3.1//EN
BEGIN:VEVENT
UID:550@monroestreetstudio.com
DTSTART;TZID=America/New_York:20251103T190000
DTEND;TZID=America/New_York:20251208T203000
DTSTAMP:20251007T005059Z
URL:https://monroestreetstudio.com/events/stained-glass-panel-for-returnin
 g-adults-fall-2025/
SUMMARY:Stained Glass Panel for Returning Adults. Fall 2025.
DESCRIPTION:Welcome back\, returning Artists! In this special stained glass
  panel project\, we’ll dive deeper into the world of Tiffany-style stain
 ed glass\, building on your foundational skills and exploring advanced tec
 hniques. This course is designed to help you refine your craftsmanship\, e
 xperiment with new designs\, and create a stunning\, one-of-a-kind stained
  glass panel.\n\nThis project takes 6 classes to complete.\n\n&nbsp\;\n\nT
 ime: 7:00 pm - 8:30 pm\n\nDates: 11/03\; 11/10\; 11/17\; 11/24\; 12/01\; 1
 2/08.\n\nFee:  $360 (6 classes + 1.5 hours of open studio time).\n\n4 stu
 dents.
CATEGORIES:Stained Glass
LOCATION:Monroe Street Studio\, 761 A Monroe Street\, Herndon\, VA\, 20170\
 , United States
X-APPLE-STRUCTURED-LOCATION;VALUE=URI;X-ADDRESS=761 A Monroe Street\, Hernd
 on\, VA\, 20170\, United States;X-APPLE-RADIUS=100;X-TITLE=Monroe Street S
 tudio:geo:0,0
END:VEVENT
BEGIN:VTIMEZONE
TZID:America/New_York
X-LIC-LOCATION:America/New_York
BEGIN:STANDARD
DTSTART:20251102T010000
TZOFFSETFROM:-0400
TZOFFSETTO:-0500
TZNAME:EST
END:STANDARD
END:VTIMEZONE
END:VCALENDAR