BEGIN:VCALENDAR
VERSION:2.0
PRODID:-//wp-events-plugin.com//7.2.3.1//EN
BEGIN:VEVENT
UID:534@monroestreetstudio.com
DTSTART;TZID=America/New_York:20250714T190000
DTEND;TZID=America/New_York:20250818T203000
DTSTAMP:20250516T204218Z
URL:https://monroestreetstudio.com/events/stained-glass-panel-for-returnin
 g-adults-summer-2025/
SUMMARY:Stained Glass Panel for Returning Adults. Summer 2025.
DESCRIPTION:Welcome back\, returning Artists! In this special stained glass
  panel project\, we’ll dive deeper into the world of Tiffany-style stain
 ed glass\, building on your foundational skills and exploring advanced tec
 hniques. This course is designed to help you refine your craftsmanship\, e
 xperiment with new designs\, and create a stunning\, one-of-a-kind stained
  glass panel.\n\nThis project takes 6 classes to complete.\n\n&nbsp\;\n\nT
 ime: 7:00 pm - 8:30 pm\n\nDates: 07/14\; 07/21\; 07/28\; 08/04\; 08/11\; 0
 8/18.\n\nFee:  $360 (6 classes + 1.5 hours of open studio time)
CATEGORIES:Stained Glass
LOCATION:Monroe Street Studio\, 761 A Monroe Street\, Herndon\, VA\, 20170\
 , United States
X-APPLE-STRUCTURED-LOCATION;VALUE=URI;X-ADDRESS=761 A Monroe Street\, Hernd
 on\, VA\, 20170\, United States;X-APPLE-RADIUS=100;X-TITLE=Monroe Street S
 tudio:geo:0,0
END:VEVENT
BEGIN:VTIMEZONE
TZID:America/New_York
X-LIC-LOCATION:America/New_York
BEGIN:DAYLIGHT
DTSTART:20250309T030000
TZOFFSETFROM:-0500
TZOFFSETTO:-0400
TZNAME:EDT
END:DAYLIGHT
END:VTIMEZONE
END:VCALENDAR