BEGIN:VCALENDAR
VERSION:2.0
PRODID:-//wp-events-plugin.com//7.2.3.1//EN
BEGIN:VEVENT
UID:635@monroestreetstudio.com
DTSTART;TZID=America/New_York:20260101T000000
DTEND;TZID=America/New_York:20261220T000000
DTSTAMP:20260114T143930Z
URL:https://monroestreetstudio.com/events/studio-time-200-for-10-hours-val
 id-for-3-months/
SUMMARY:Studio Time - $200 for 10 hours (valid for 3 months)
DESCRIPTION:Eligibility: Completion of our Beginner Stained Glass class or
  sufficient experience working independently in a glass studio. We also of
 fer a one-hour orientation to refresh your skills and knowledge about tech
 niques for $60. Once purchased\, our team will contact you to schedule you
 r orientation. Private classes are also available on request.\n\nCost: $20
 0 for 10 hours (valid for 3 months)\n\nPLEASE SELECT AS MANY HOURS AS YOU 
 WOULD LIKE TO PURCHASE. Note: Other price options are available.\n\nTimes 
 Offered:\n\n 	Monday: 10:00 am – noon\; 5:00 pm – 8:30 pm\n 	Tuesday: 
 6:30 pm – 8:30 pm\n 	Wednesday: 10:00 am – noon\n 	Thursday: 5:30 pm 
 – 8:30 pm\n 	Saturdays: 9:30 am – 1:30 pm\n 	Studio is closed during F
 airfax County public school breaks\n\nTools are Provided: Grinders\, glas
 s cutters\, pliers\, homasote boards\, soldering irons\, safety goggles\, 
 apron\, flux\, and scrap glass.\n\nMaterials are NOT provided: Glass shee
 ts\, foil\, solder\, chain\, jump rings\, frames\, patina. Some materials 
 are available for purchase on-site.\n\nSafety &amp\; Courtesy: You must a
 lways wear safety goggles and close-toed shoes. Be mindful of others — a
 sk before playing music.\nStorage: Short-term storage provided while worki
 ng. Projects left untouched for 1 month will be recycled if not claimed.\n
 \nScheduling and Arrival: Please text 240-885-9040 a day before to book y
 our visit. Sign in and out at the front desk so we know you are on-site o
 r left the studio. This is for insurance and safety purposes.
END:VEVENT
BEGIN:VTIMEZONE
TZID:America/New_York
X-LIC-LOCATION:America/New_York
BEGIN:STANDARD
DTSTART:20251102T010000
TZOFFSETFROM:-0400
TZOFFSETTO:-0500
TZNAME:EST
END:STANDARD
BEGIN:DAYLIGHT
DTSTART:20260308T030000
TZOFFSETFROM:-0500
TZOFFSETTO:-0400
TZNAME:EDT
END:DAYLIGHT
BEGIN:STANDARD
DTSTART:20261101T010000
TZOFFSETFROM:-0400
TZOFFSETTO:-0500
TZNAME:EST
END:STANDARD
END:VTIMEZONE
END:VCALENDAR