BEGIN:VCALENDAR
VERSION:2.0
PRODID:-//wp-events-plugin.com//7.2.3.1//EN
BEGIN:VEVENT
UID:637@monroestreetstudio.com
DTSTART;TZID=America/New_York:20260101T000000
DTEND;TZID=America/New_York:20261220T000000
DTSTAMP:20260114T143954Z
URL:https://monroestreetstudio.com/events/studio-time-60-a-one-hour-orient
 ation/
SUMMARY:Studio Time - $60 – a one-hour orientation
DESCRIPTION:Cost: $60 – a one-hour orientation\n\nOnce purchased\, our te
 am will contact you to schedule your orientation. \n\nOpen Studio Times O
 ffered:\n\n 	Monday: 10:00 am – noon\; 5:00 pm – 8:30 pm\n 	Tuesday: 6
 :30 pm – 8:30 pm\n 	Wednesday: 10:00 am – noon\n 	Thursday: 5:30 pm 
 – 8:30 pm\n 	Saturdays: 9:30 am – 1:30 pm\n 	Studio is closed during F
 airfax County public school breaks\n\nTools and Material are provided duri
 ng the orientation. 
END:VEVENT
BEGIN:VTIMEZONE
TZID:America/New_York
X-LIC-LOCATION:America/New_York
BEGIN:STANDARD
DTSTART:20251102T010000
TZOFFSETFROM:-0400
TZOFFSETTO:-0500
TZNAME:EST
END:STANDARD
BEGIN:DAYLIGHT
DTSTART:20260308T030000
TZOFFSETFROM:-0500
TZOFFSETTO:-0400
TZNAME:EDT
END:DAYLIGHT
BEGIN:STANDARD
DTSTART:20261101T010000
TZOFFSETFROM:-0400
TZOFFSETTO:-0500
TZNAME:EST
END:STANDARD
END:VTIMEZONE
END:VCALENDAR