BEGIN:VCALENDAR
VERSION:2.0
PRODID:-//wp-events-plugin.com//7.2.3.1//EN
BEGIN:VEVENT
UID:538@monroestreetstudio.com
DTSTART;TZID=America/New_York:20250811T140000
DTEND;TZID=America/New_York:20250814T170000
DTSTAMP:20250727T174534Z
URL:https://monroestreetstudio.com/events/up-cycling-summer-camp-for-age-1
 0/
SUMMARY:Up-Cycling Summer Camp for Age 10+
DESCRIPTION:&nbsp\;\n\nUp-Cycling Art Class Description:\n\n&nbsp\;\n\nIf y
 ou want to contribute to the cleanliness of our environment\, then this ca
 mp is for you!\n\nIn this creative\, hands-on class\, students will learn 
 how to transform everyday recycled materials into unique works of art. Fro
 m cartons\, glass jars\, LEGO pieces\, old t-shirts\, fabrics\, jeans\, an
 d more\, we’ll explore how to give new life and purpose to discarded ite
 ms through art.\n\nStudents will experiment with sewing\, crochet\, constr
 uction\, and mixed media techniques to build functional or decorative piec
 es. \n\nBring Your Own Materials:\n\n 	Cartons and cardboard\n 	Glass jars
  \n 	LEGO pieces\n 	Old t-shirts and jeans\n\nSkills Students Will Learn:\
 n\n 	Hand sewing and basic crochet\n 	Assembly and construction techniques
 \n 	Creative reuse and design thinking\n\nSafety Protocol:\n\nStudents wil
 l use tools like Exacto knives\, scissors\, needles\, cutters\, and glue g
 uns under close supervision.\n\n 	Safety equipment (like gloves or goggles
 ) will be provided when appropriate.\n 	Students will receive instruction 
 on tool use and safety procedures before starting each project.\n 	Respect
  for tools and workspace will be part of the learning process.\n\nThis cla
 ss encourages creativity\, sustainability\, and resourcefulness\, helping 
 students see the beauty in the things we often throw away.We are happy to
  \n\n&nbsp\;\n\nStudents should bring a packed lunch and drink. Healthy s
 nack will be provided.\n\n&nbsp\;\n\nMonday - Thursday\n\nDate: 08/11 - 08
 /14\n\nTime: 2:00 pm - 5:00 pm\n\n4 days - $350\n\n&nbsp\;\n\n&nbsp\;\n\n&
 nbsp\;
CATEGORIES:Workshops
LOCATION:Monroe Street Studio\, 761 A Monroe Street\, Herndon\, VA\, 20170\
 , United States
X-APPLE-STRUCTURED-LOCATION;VALUE=URI;X-ADDRESS=761 A Monroe Street\, Hernd
 on\, VA\, 20170\, United States;X-APPLE-RADIUS=100;X-TITLE=Monroe Street S
 tudio:geo:0,0
END:VEVENT
BEGIN:VTIMEZONE
TZID:America/New_York
X-LIC-LOCATION:America/New_York
BEGIN:DAYLIGHT
DTSTART:20250309T030000
TZOFFSETFROM:-0500
TZOFFSETTO:-0400
TZNAME:EDT
END:DAYLIGHT
END:VTIMEZONE
END:VCALENDAR