BEGIN:VCALENDAR
VERSION:2.0
PRODID:-//wp-events-plugin.com//7.2.3.1//EN
BEGIN:VEVENT
UID:633@monroestreetstudio.com
DTSTART;TZID=America/New_York:20260214T180000
DTEND;TZID=America/New_York:20260214T193000
DTSTAMP:20251126T014521Z
URL:https://monroestreetstudio.com/events/valentines-day-workshops-for-cou
 ples-stained-glass-love-heart-saturday-february-14th-2026/
SUMMARY:Valentine's Day Workshops For Couples: Stained Glass Love Heart. Sa
 turday\, February 14th\, 2026
DESCRIPTION:Stained Glass Love Heart Workshop — Valentine’s Day for Cou
 ples\nCelebrate love\, connection\, and creativity this Valentine’s Day!
 \nTogether\, you’ll create a beautiful heart-shaped stained glass piece
 —a meaningful keepsake made by hand and from the heart.\nJoin us for a f
 un and memorable experience that sets the perfect tone for your romantic e
 vening. Bring your favorite drink\, and enjoy our Valentine treats while y
 ou craft side-by-side.\nSaturday\, February 14th\n6:00 pm to 7:30 pm\n$120
  per couple
END:VEVENT
BEGIN:VTIMEZONE
TZID:America/New_York
X-LIC-LOCATION:America/New_York
BEGIN:STANDARD
DTSTART:20251102T010000
TZOFFSETFROM:-0400
TZOFFSETTO:-0500
TZNAME:EST
END:STANDARD
END:VTIMEZONE
END:VCALENDAR