BEGIN:VCALENDAR
VERSION:2.0
PRODID:-//wp-events-plugin.com//7.2.3.1//EN
BEGIN:VEVENT
UID:614@monroestreetstudio.com
DTSTART;TZID=America/New_York:20251115T160000
DTEND;TZID=America/New_York:20251115T183000
DTSTAMP:20251010T140258Z
URL:https://monroestreetstudio.com/events/winter-workshop-stained-glass-or
 naments-saturday-november-15th-2025-2/
SUMMARY:Winter Workshop: Stained Glass Ornaments\, Saturday\, November 15th
 \, 2025
DESCRIPTION:Celebrate the season with creativity and craftsmanship in our W
 inter Workshop: Stained Glass Ornaments! Designed especially for adults wi
 th prior stained glass experience\, this hands-on evening is a joyful oppo
 rtunity to refine your skills while creating something truly special.\nCho
 ose from a beautiful selection of festive patterns—snowflakes\, stars\, 
 trees\, and more—and bring them to life using vibrant glass\, rich textu
 res\, and expert techniques. Under the guidance of an experienced instruct
 or\, you’ll create ornaments you’ll treasure for years to come\, perfe
 ct for decorating your home or gifting to loved ones.\nAll tools\, materia
 ls\, and instructions are provided\, along with refreshments and holiday t
 reats to keep your spirits bright. Whether you're looking to expand your s
 tained glass repertoire or simply enjoy a relaxed\, festive evening in a c
 reative environment\, this workshop is for you.\nSaturday\n\nNovember 15th
 \n\n4:00 PM to 6:30 PM\n\nPrice: $75
ATTACH;FMTTYPE=image/jpeg:https://monroestreetstudio.com/wp-content/upload
 s/2025/09/IMG_7731.jpg
END:VEVENT
BEGIN:VTIMEZONE
TZID:America/New_York
X-LIC-LOCATION:America/New_York
BEGIN:STANDARD
DTSTART:20251102T010000
TZOFFSETFROM:-0400
TZOFFSETTO:-0500
TZNAME:EST
END:STANDARD
END:VTIMEZONE
END:VCALENDAR