BEGIN:VCALENDAR
VERSION:2.0
PRODID:-//wp-events-plugin.com//7.2.3.1//EN
BEGIN:VEVENT
UID:682@monroestreetstudio.com
DTSTART;TZID=America/New_York:20260502T140000
DTEND;TZID=America/New_York:20260502T163000
DTSTAMP:20260420T213035Z
URL:https://monroestreetstudio.com/events/workshop-intro-to-stained-glass-
 friday-may-2nd/
SUMMARY:Workshop - Intro to Stained Glass - Saturday\, May 2nd
DESCRIPTION:Discover the art of stained glass in this hands-on\, beginner-f
 riendly workshop. Over the course of two hours\, participants will be intr
 oduced to the basics of stained glass design\, tools\, and techniques. You
 ’ll learn how to cut and shape glass\, assemble pieces using the copper 
 foil method\, and understand the fundamentals of soldering—all while cre
 ating a small finished piece to take home.\nNo prior experience is require
 d. This workshop focuses on creativity\, safety\, and learning through gui
 ded practice in a relaxed and supportive environment. All materials and to
 ols are provided\, making it a perfect introduction for anyone curious abo
 ut this timeless and colorful craft.\nAs a bonus\, participants receive 10
 % off enrollment in upcoming Beginner Stained Glass classes.\nSaturday\, M
 ay 2nd\n2:00 pm  - 4:30 pm\n$95
END:VEVENT
BEGIN:VTIMEZONE
TZID:America/New_York
X-LIC-LOCATION:America/New_York
BEGIN:DAYLIGHT
DTSTART:20260308T030000
TZOFFSETFROM:-0500
TZOFFSETTO:-0400
TZNAME:EDT
END:DAYLIGHT
END:VTIMEZONE
END:VCALENDAR