BEGIN:VCALENDAR
VERSION:2.0
PRODID:-//wp-events-plugin.com//7.2.3.1//EN
BEGIN:VEVENT
UID:683@monroestreetstudio.com
DTSTART;TZID=America/New_York:20260424T183000
DTEND;TZID=America/New_York:20260424T203000
DTSTAMP:20260421T171709Z
URL:https://monroestreetstudio.com/events/workshops-for-couples-build-the-
 house-or-connect-the-heart-friday-april-24th-2026/
SUMMARY:Workshops For Couples: Build the House or Connect the Heart. Friday
 \, April 24th\, 2026
DESCRIPTION:Workshops for Couples: Build the House or Connect the Heart\nLo
 oking for a creative and meaningful experience together? Join our Stained 
 Glass Workshop for Couples at Monroe Street Studio!\nChoose your project: 
 Build the House or Connect the Heart (pre-cut pieces provided)\nLaugh\, cr
 eate\, and put your teamwork skills to the test while making something bea
 utiful together. The perfect mix of fun and creativity for your next date 
 night!\nNo prior experience is required. This workshop focuses on creativi
 ty\, safety\, and learning through guided practice in a relaxed and suppor
 tive environment. All materials and tools are provided\, making it a perfe
 ct introduction for anyone curious about this timeless and colorful craft.
 \nAs a bonus\, participants receive 10% off enrollment in upcoming Beginne
 r Stained Glass classes.\nFriday\, April 24th\n6:30 pm to 8:30 pm\n$120 pe
 r couple\n
END:VEVENT
BEGIN:VTIMEZONE
TZID:America/New_York
X-LIC-LOCATION:America/New_York
BEGIN:DAYLIGHT
DTSTART:20260308T030000
TZOFFSETFROM:-0500
TZOFFSETTO:-0400
TZNAME:EDT
END:DAYLIGHT
END:VTIMEZONE
END:VCALENDAR